BEGIN:VCALENDAR
VERSION:2.0
CREATED:20260421T171133Z
PRODID:-//Inogen\, Inc./Equisolve Calendar v1.0//EN
METHOD:PUBLISH
BEGIN:VEVENT
UID:a8b43e588bc0252c565f9357a4438469
DTSTAMP:20260425T150952Z
DTSTART:20260507T210000Z
DTEND:20260507T220000Z
SUMMARY:Inogen 2026 First Quarter Financial Results
DESCRIPTION:Inogen 2026 First Quarter Financial Results\n\nDate: May 7\, 2026 • 5:00pm EDT\n\nWebcast: https://event.choruscall.com/mediaframe/webcast.html?webcastid=9hyFx9oh
END:VEVENT
END:VCALENDAR
